BEGIN:VCALENDAR
VERSION:2.0
METHOD:PUBLISH
BEGIN:VEVENT
UID:WILD_APRICOT_EVENT_3769961_SESSION_1
DTSTART:20200602T100000Z
DTEND:20200602T120000Z
SUMMARY:June Club Meeting - Face to face cancelled but there will be a web-based meeting
LOCATION:Online TBA
DESCRIPTION:https://www.rangeroverclub.org.au/event-3769961\n\n\nMonthly Club Meeting\n  This will shift to a web-based meeting.  Details about how to join the web-based meeting will be emailed to all members prior to the meeting time.\n  --------\n  Visitors and prospective members are welcome to come along and see what we’re about! We suggest that you email memberships@rangeroverclub.org.au to let us know you're coming and we'll look out for you.\n  Meetings usually include:\n      * Welcome to new members\n\n        * Guest speaker\n\n        * Trip reports\n\n        * Raffle\n\n        * Tea/coffee\n\n        * Upcoming events\n\n        * Other club business \n\n  You don't need to register but if we can get an idea of numbers attending it would help. \n  \n\n  \n\n
DTSTAMP:20260424T151808Z
END:VEVENT
END:VCALENDAR
