BEGIN:VCALENDAR
VERSION:2.0
METHOD:PUBLISH
BEGIN:VEVENT
UID:WILD_APRICOT_EVENT_3769948_SESSION_1
DTSTART:20200304T090000Z
DTEND:20200304T110000Z
SUMMARY:Club Meeting (NOTE: It's on Wednesday)
LOCATION:The Glasshouse at Caulfield Racecourse\, 31 Station St\, Caulfield East VIC 3145
DESCRIPTION:https://www.rangeroverclub.org.au/event-3769948\n\n\nMonthly Club Meeting\n  March's meeting has been shifted to Wednesday 4th of March - for just this month.\n  Club meetings are generally held on the first Tuesday of most months .\n  Note: November is usually pushed to the 2nd Tuesday (some horse race gets in the way) and we dont have a January meeting. Check the calendar dates or contact us to confirm\, because we occasionally need to shift meetings.\n  Our new location of The Glasshouse at Caulfield Racecourse\, 31 Station St\, Caulfield East VIC 3145.\n  Visitors and prospective members are welcome to come along and see what we’re about! We suggest that you email memberships@rangeroverclub.org.au to let us know you're coming and we'll look out for you.\n  Meetings usually include:\n      * Welcome to new members\n\n        * Guest speaker\n\n        * Trip reports\n\n        * Raffle\n\n        * Tea/coffee\n\n        * Upcoming events\n\n        * Other club business \n\n  You don't need to register but if we can get an idea of numbers attending it would help. \n  Dinner will be available prior to the meeting in the main dining  area\, so arrive with sufficient time to eat before we head into the auditorium for an 8pm start. People start arriving at 6:30. \n  Dinner will be available in the restaurant before the meeting\, but to have any chance of being fed quickly\, we suggest the following.\n      * Call them to make a reservation\, and mention that you're part of the Range Rover Club. Phone: (03) 9257 7170 \n\n        * Order and pay for food at the bar. There is table service but we share tables and it can get confusing to figure out who had what.\n\n  Menu: caulfieldglasshouse.com.au\n  Reservations: bookbookonline.com.au\n  Phone: (03) 9257 7170\n  \n\n  \n\n  \n\n
DTSTAMP:20260424T151818Z
END:VEVENT
END:VCALENDAR
