BEGIN:VCALENDAR
VERSION:2.0
METHOD:PUBLISH
BEGIN:VEVENT
UID:WILD_APRICOT_EVENT_3734150_SESSION_1
DTSTART:20200222T220000Z
DTEND:20200223T050000Z
SUMMARY:Blackwood to Gisborne
LOCATION:Gisborne to Blackwood
DESCRIPTION:https://www.rangeroverclub.org.au/event-3734150\n\nBlackwood to Gisborne\n  Date:  23rd February 2020 (Sunday):  9:00 am to 4:00 pm\n  Description:  We will meet in Blackwood where we will air down for the start of the trip. The day will be spent on tracks between Lerderderg State Park & Wombat State Forest. Vehicles must be high clearance (2-inch lift as minimum) as some tracks have areas of difficulty with steep rocky and rutted banks and some significant mud obstacles after rain.\n  Some of the tracks during the day are easy to medium\, however\, Ruth Track and Hayden Track can be overgrown at times which may cause damage to vehicle paintwork. XL Track and Bullet Track have some deep ruts and bogs (if wet) as well as steep sections. Amblers lane Track may have a ford to cross. Diggers Track is very rutted especially at the end. And Ratcliffe track is narrow and is particularly challenging as there are steep sections and climbs and possibly a water crossing.\n  Weather:  Warm to hot but prepare for anything - bring appropriate clothing\, food and plenty of water.\n  Equipment:   Well-maintained Low Range 4wd’s with high clearance (minimum 2-inch lift above standard) and have rated recovery points.  Genuine All Terrain tyres or Mud tyres with 50% or more tread.  No road tyres.  Drivers must have completed the RRCV club training. Vehicles must be UHF radio equipped (or one borrowed from the club).  Standard recovery gear including dampener\, rated snatch strap and shackles\, shovel must be carried. No camper trailers\, pets or firearms\n  Trip Standard:  This trip is classified Hard.\n  Fuel:  Full tank ex Melbourne / fuel available in Gisborne\n  Distance:  Total – approx. 223km\n  Trip – approx. 78km of both low and high range driving\,  Melbourne to Gisborne – approx. 55kms.  Blackwood to Melbourne – approx. 90kms\n  Duration:  1 day\n  Convoy limit:  6 vehicles\n  Meeting arrangements:     We plan to meet outside the front of Blackwood Hotel\, 22 Martin St\, Blackwood VIC 3458 and depart at 9am sharp. If you plan to get coffee beforehand then you will need to arrive a little earlier.  Don’t forget to bring your completed personal details forms in duplicate (one copy to keep in your glove box and the other to give to the trip leader in the morning at the briefing).  We aim to finish around 4pm in Gisbourne.\n  Trip Leader:  Gary Tinner 0414 742 701 gary.tinner@visaexecutive.com\n   ……………...………………………………….\n  POST TRIP REPORT\n  6 vehicles.  Departed Blackwood 0915.  Dry weather.  Route  travelled. Nth Blackwood Rd\,  Ruth Tk\, Hayden Tk\, Chettle Rd\, Billet Tk\, Mill Rd\, XL Tk\, XL Link Tk\, Chettle Rd\, Firth Rd\, Burnt Mill Rd\, Lloyd Tk\, O Briens Rd\, Blue Gum /O’Brien Link Tk\, Blue Gum Tk\, Nuggety Tk up\, Blue Gum Tk\, Ractcliffe Tk\, Firth Rd\, Carrolls Lane\, arrived Gisborne 1600. 60km.  Nuggetty Tk very difficult due rock surface at bottom and rock steps at top. Ractcliffe Tk  difficult due rock surface and grades. Ruth Tk can be slippery if wet.\n
DTSTAMP:20260424T152019Z
END:VEVENT
END:VCALENDAR
