BEGIN:VCALENDAR
VERSION:2.0
METHOD:PUBLISH
BEGIN:VEVENT
UID:WILD_APRICOT_EVENT_3663003_SESSION_1
DTSTART:20200215T220000Z
DTEND:20200216T050000Z
SUMMARY:Victorian 4WD show - Warragul
LOCATION:Lardner Park - Warragul
DESCRIPTION:https://www.rangeroverclub.org.au/event-3663003\n\nVictorian 4WD show - Warragul  \n  Date and time:  Sunday. 16 February 2020\, 9:00am     \n  Once again\, the club will have a stand at the Victorian 4WD Show. \n  We are looking for members who can spend an hour of two manning the stand and talking to prospective new members about club and its activities.\n  If you can spend an hour or so on the stand come and let us know on the day so we can schedule break times for others.\n  Note: there are only 4 Exhibitor passes which are to be used by people exhibiting their cars so there will be a charge to enter the show. Entry is $15 per adult. Children under 16 are free.\n  Description:   \n  Bigger and Better than ever\, the Victorian 4WD Show moved last year to a fantastic new location - Lardner Park\, Warragul.\n  Show Features Include...\n      *      4WD Accessories - All the latest gadgets and essentials from solar panels to swags.\n   \n\n        *      Vehicle Modifications - Need an ECU upgrade\, maybe a custom built drawer system\, awesome...just don't tell the missus.\n   \n\n        *      Camping Gear - Tents\, Pegs and Hammers.\n   \n\n        *      Off-Road Camper Trailers - Hook up and go....anywhere!\n   \n\n        *      Fishing Equipment – From a lure to a tinny\, it's all here.\n   \n\n        *      Hunting Victoria - Talk to the best in hunting\, how to's and safety\, and all the best gear.\n   \n\n        *      Demonstration Area - Watch the team show and explain various recovery and winching techniques\, we will look at the differences between the new and old technology. Exhibitor product spotlights and visitor give away's.\n   \n\n        *      4WD Adventure Circuit - Here the public can climb on board with an experienced local club member and help navigate the awesome test track. Hang on tight as we work our way through the super steep hill climbs and bog holes....yeah!\n   \n\n        *      4WD Swap Meet - Looking for that hard to find part\, check out the swap meet - second hand 4WD accessories\, camping gear and more.\n   \n\n        *      Free Kids Entertainment - Jumping Castle\, Face Painting & More!\n   \n\n        *      Also - Catering vans\,  acres of parking\, under cover eating area and restroom facilities.\n   \n\n      *      Cost of Entry for Adults $15 (Children under 16 are free).\n   \n\n
DTSTAMP:20260424T152036Z
END:VEVENT
END:VCALENDAR
