BEGIN:VCALENDAR
VERSION:2.0
METHOD:PUBLISH
BEGIN:VEVENT
UID:WILD_APRICOT_EVENT_3621780_SESSION_1
DTSTART:20191204T000000Z
DTEND:20191204T030000Z
SUMMARY:Christmas party & club meeting
LOCATION:Black Rock Yacht Club\, Black Rock\, Victoria
DESCRIPTION:https://www.rangeroverclub.org.au/event-3621780\n\nOur Christmas party & December meeting is at the Black Rock Yacht Club.\n  No speaker at this event but members are invited to bring along a plate of food to share. The yacht club have limited facilities to heat food so please consider this when making your food choice.\n  We will provide tickets at the door for 2 drinks each - wine\, beer or soft drink.\n\n  In addition to the food\, we'll follow the core meeting structure of:\n         * New members welcome\n\n          * Trip reports\n\n          * General club business \n\n   If you are not a member and interested in joining let us know you're coming so we can help you feel welcome.\n  There may be some road work issues in the area so allow extra time to find your way in.\n  \n\n
DTSTAMP:20260424T170342Z
END:VEVENT
END:VCALENDAR
