BEGIN:VCALENDAR
VERSION:2.0
METHOD:PUBLISH
BEGIN:VEVENT
UID:WILD_APRICOT_EVENT_3596003_SESSION_1
DTSTART:20191112T090000Z
DTEND:20191112T090000Z
SUMMARY:Club meeting - November revised date
LOCATION:East Malvern RSL
DESCRIPTION:https://www.rangeroverclub.org.au/event-3596003\n\nMonthly Club Meeting\n  Club meetings are usually held at 8pm on the first Tuesday of most months at East Malvern RSL\, however due to Melbourne Cup this months meeting is pushed out by 1 week to the 2nd Tuesday 12th November — check out the calendar for more details\, and then come along and see what we’re about! (let us know you're coming so we can look out for you).\n  You don't need to register but you can if you wish. The Registration button's just there by default.\n  \n\n  \n\n
DTSTAMP:20260424T165959Z
END:VEVENT
END:VCALENDAR
