BEGIN:VCALENDAR
VERSION:2.0
METHOD:PUBLISH
BEGIN:VEVENT
UID:WILD_APRICOT_EVENT_3548444_SESSION_1
DTSTART:20191004T090000Z
DTEND:20191004T120000Z
SUMMARY:Madras Bros
LOCATION:129 Smith Street\, Fitzroy Victoria 3065
DESCRIPTION:https://www.rangeroverclub.org.au/event-3548444\n\nDinner at Madras Bros in Fitzroy\n  Date and time: 7:00 pm Friday\, 4th October.\n  Description:  Madras Bros is an authentic Indian restaurant and bar  \n  Let's get together for a nice relaxing dinner in a great atmosphere. \n  Visit their website for more information www.madrasbrothers.com.au\n  After a taste-tour of Tamil-Nadu’s most loved culinary institutions in early 2017\, brothers Magesh and Hrishi developed this fine ‘institution’.  Serving authentic Tamil cuisine in true Southern Indian style\, everything from dish to decor has been sourced or inspired by their Chennai pilgrimage. \n  Meeting arrangements: 129 Smith Street\, Fitzroy Victoria 3065\n\n  Registration:  Unlike an off-road trip\, where cars are counted. We need to know how many people are coming to make sure they all get a seat at the table.\n  The registration form asks you for the number of additional guests - i.e. this is in addition to you.\n  Contact:  Fran Pearson (04)33 113 382\n\n  \n\n
DTSTAMP:20260424T170122Z
END:VEVENT
END:VCALENDAR
