BEGIN:VCALENDAR
VERSION:2.0
METHOD:PUBLISH
BEGIN:VEVENT
UID:WILD_APRICOT_EVENT_3521157_SESSION_1
DTSTART:20191017T220000Z
DTEND:20191020T050000Z
SUMMARY:Cruiserkhana - Competitor register
LOCATION:TLCCV Property\, behing Yark
DESCRIPTION:https://www.rangeroverclub.org.au/event-3521157\n\n\nCruiserkhana 2019\n  Cruiserkhana is back again this year.\n  It's the Toyota Club's annual attempt to show the other clubs that they are the best drivers. It's also the time for other clubs to prove them wrong. \n  They do have a home advantage but RRCV and other clubs do quite well. And it's worthwhile entering because there's usually thousands of dollars of prizes!\n  There is a cost to this and it's $205 for car\, driver\, navigator\, camping and dinner.\n  NOTE: To register as a competitor\, you need to go to the TLCCV's website at teh link below:\n  https://tlccvmembership.wildapricot.org/event-3367134\n\n  This signs up one driver/navigator pair. Everyone competes individually but they are also grouped into teams of three. \n  This RRCV "trip" is an Expression of interest for admin only. Once you register\, please sign up to this EOI too - so we can plan the event and maybe get you into a team.\n      * if you already have a team of three that you want to keep with\, I suggest you all sign up at the same time and agree and include the name of your team in the application - it would be good if you included some reference to the RRCV\, particularly if you're the only RRCV team :)\n\n  \n\n  Date and time:  Weekend of 18-20 October.\n Day-1 is getting there for an early start for the competition\n Day-2 is competition day & awards dinner\n Day-3 is optional events and/or recovery from the fairly late dinner\n  - if you come up for the competition day\, you need to arrive before 7am registration (TBC)\n  Events:  There are usually about 6-8 challenges that test the drivers and their cars\, including:\n      * Slalom - where the passenger's grab and replace flags into pipes sticking up from the ground.\n\n        * Mud Challenge - try to drive around a very wet and sloping mud track that's got sprinklers on it.\n\n        * Wet Lap - where the navigator holds a bowl of water while the car is driven down some log steps and the winner is the one with the most water left in the bowl (or least water on the navigator).\n\n        * Cross-country - a tight and sometimes challenging circuit.\n\n        * Sand trap - a sand course with deep ruts and a very tight drive through some poles \n\n        * Balance beam - a see-saw for cars - the longest to balance on the beam wins.\n\n  \n\n  This is the official flyer - it is a Toyota but the may not realise it's an RRCV member - Sherry Mayo on the slalom\n  Weather:  getting warmer but you never know - it's Yark!\n  Equipment:  Vehicles need to have low range 4WD capability with good all-terrain tyres and UHF radio equipped (or one borrowed from the club).  Usual recovery gear should be carried.  - Hint - let your tyres down a lot to have any chance on the mud.\n  Duration:1-3 days\n  Convoy limit: Numbers are limited to a fixed number of competitors - we normally run one or two teams of 3. Refer to TLCCV website for more details\; but they usually sell out quickly.\n  Meeting arrangements:  We normally meet on the Friday evening and are given a spot for the number of tents we'll have as a group.\n  Trip Leaders: Kenny Macleod\n I'm going overseas from 4th Sept so email please.\n  \n\n
DTSTAMP:20260424T165555Z
END:VEVENT
END:VCALENDAR
