BEGIN:VCALENDAR
VERSION:2.0
METHOD:PUBLISH
BEGIN:VEVENT
UID:WILD_APRICOT_EVENT_3483533_SESSION_1
DTSTART:20190803T230000Z
DTEND:20190804T060000Z
SUMMARY:Mt Buangor Area - Day 2 - scenic/social trip
LOCATION:Mt Buangor & Beaufort area
DESCRIPTION:https://www.rangeroverclub.org.au/event-3483533\n\n\nMt Buangor & Beaufort area \n Day 2 - scenic/social trip\n  This is day 2 of a 2-day weekend - separated to allow for registration of individual days. If you wish to attend both days\, you will need to register for both.\nSunday we will mostly be a scenic drive / social trip visiting local attractions such as Lake Goldsmith Steam & Vintage Rally\, Stockyard Hill\, Mt Cole Reservoir a few local wineries on the way then stopping for lunch at the Mount Langi Ghiran Vineyard.  Weather:\n  Cold and possibly wet and windy so ensure you bring appropriate clothing.\n  Trip Standard: Easy - \nSunday we will mostly be a scenic drive / social trip visiting local attractions such as Lake Goldsmith Steam & Vintage Rally\, Stockyard Hill\, Mt Cole Reservoir a few local wineries on the way then stopping for lunch at the Mount Langi Ghiran Vineyard.  Equipment:\nUHF radio (or one borrowed from the club.  Suitable for All Wheel Drive and High Range 4WD.  Can be low clearance with single range and road tyres.  Camping/Accomodation:\n  Middle Creek Camping Area\n         * There are 30 unpowered sites in a large open area\, all of which accommodate both caravans and tents. Each site holds a maximum of 6 people.\n\n          * Non-flush toilets\, fireplaces\, picnic tables and a picnic shelter are provided.\n\n          * Campfires only allowed in designated fireplaces - supply your own wood.\n\n   Ferntree Camping Area\n         * Ferntree Camping Area is suitable for tents only. The five individual sites are small and each is in a secluded bush setting. Each site has its own fireplace and picnic table. Campers should be self-sufficient and bring drinking water and firewood. Non-flush toilets are located in the adjacent day visitor area.\n\n   Bailes Camping Area\n         * Bailes Camping Area contains 5 unpowered sites suitable for both tents and caravans.  Non-flush toilets\, communal fireplaces and picnic tables are provided. Campers should be self-sufficient and bring drinking water and firewood.\n\n   Non-camping accomodation:\n     https://www.parkstay.vic.gov.au/mount-buangor-state-park\n   Food & Water: Suggest bring your own morning tea\, coffee (thermos) and light snacks.\n  Fuel: Full tank ex Melbourne\, fuel available in Beaufort (Caltex).\n  Distances:\n  Melbourne to Beaufort – 163 km (approx. 1 hour 50mins)\n         * Ararat to Beaufort – 45 km (approx. 32min via the Western Hwy A8)\n\n          * Ballarat to Beaufort – 51 km (approx. 38min via Western Hwy A8 & M8)\n\n   Scenic drive – approx. 110 km\n  Duration: 1 day (separate registration required for the previous day)\n  Convoy Limit: 10 vehicles\n  Meeting arrangements:\n  Beaufort Visitor Information Center\n 72 Neill St\, Beaufort VIC 3373\n  UHF Channel:  15\n  Trip Leader:\n  Simon van den Berg 0424 544 297 5i.b3rg@gmail.com\n  \n\n
DTSTAMP:20260424T170112Z
END:VEVENT
END:VCALENDAR
