BEGIN:VCALENDAR
VERSION:2.0
METHOD:PUBLISH
BEGIN:VEVENT
UID:WILD_APRICOT_EVENT_3464344_SESSION_1
DTSTART:20190629T000000Z
DTEND:20190629T060000Z
SUMMARY:Lerderderg State Park
LOCATION:Lerderderg State Park
DESCRIPTION:https://www.rangeroverclub.org.au/event-3464344\n\n\nExploring the ‘Open’ tracks in the Lerderderg State Park.\n  - Note - 10am start\n  We plan to make our way along Seereys Track and head into the Old Quarry/Training area. Other tracks include Blue Gum\, Diggers and Morning Star which will have us finishing up in Blackwood where we can enjoy a warm/or cold drink at the Blackwood Hotel.\n  Weather:  Cold and possibly wet and windy so ensure you bring appropriate clothing and food.\n  Trip Standard:  This trip is classified Medium because it is likely to be wet and possibly slippery in parts. Be prepared for the possibility of coming across some difficult sections or mud and boggy areas.\n  Equipment:  High clearance vehicles with low range 4WD capability. Good all-terrain tyres with not less than 50% tread. Vehicles must be UHF radio equipped (or one borrowed from the club).  Usual recovery gear must be carried.\n  Don't bring:    Dogs and firearms \n\n  Fuel:  Full tank ex Melbourne / fuel available in Bacchus Marsh\n  Distance:\n Total – approx. 205km\n Tracks approx. 45kms\n Melbourne to Coimadai – approx. 70kms\n Blackwood to Melbourne – approx. 90kms\n  Duration:  1 day\n  Convoy limit:   8 vehicles\n  UHF Channel:12\n\n  Meeting arrangements:We will depart at 10am from the front of the Coimadai CFA Station\, 17 Russells Rd\, Coimadai Vic 3340. This location is approximately 10 minutes from Bacchus Marsh. Note that there isn’t anywhere to get a coffee here.\n  We plan to finish about 4pm in Blackwood.\n  \n\n  Trip Leader:Gary Tinner 0414 742 701 gary.tinner@visaexecutive.com \n  \n\n  \n\n
DTSTAMP:20260424T172145Z
END:VEVENT
END:VCALENDAR
