BEGIN:VCALENDAR
VERSION:2.0
METHOD:PUBLISH
BEGIN:VEVENT
UID:WILD_APRICOT_EVENT_3460515_SESSION_1
DTSTART:20190815T230000Z
DTEND:20190818T070000Z
SUMMARY:4x4 Show
LOCATION:Melbourne Showgrounds\, Epsom Road\, Ascot Vale VIC 3032
DESCRIPTION:https://www.rangeroverclub.org.au/event-3460515\n\n4x4 Show Melbourne Showgrounds\n  \n\n  Tickets  are $19 per adult (Kids 15 & Under Free) \n Club members get a 15% discount \n  \n\n  Click here to get the discount code.  \n https://www.rangeroverclub.org.au/4x4-Show/\n  \nWhen\n  Friday 16th August: 9am – 6pm\n  Saturday 17th August: 9am – 6pm\n  Sunday 18th August: 9am – 5pm\n  \nWhere\n  Melbourne Showgrounds \n Epsom Road\, Ascot Vale VIC 3032\n  \nDetails\nhttps://tickets.lup.com.au/national-4x4-outdoors-fishing-and-boating-expo-melbourne-2019  \n\n
DTSTAMP:20260424T153828Z
END:VEVENT
END:VCALENDAR
