BEGIN:VCALENDAR
VERSION:2.0
METHOD:PUBLISH
BEGIN:VEVENT
UID:WILD_APRICOT_EVENT_3460510_SESSION_1
DTSTART:20190629T140000Z
DTEND:20190630T070000Z
SUMMARY:Parks Vic Bunyip - Help needed 30 June
LOCATION:Bunyip
DESCRIPTION:https://www.rangeroverclub.org.au/event-3460510\n\nParks Victoria - Bunyip\n  Bunyip area\n  30 June 2019\n  HELP NEEDED\n  Help needed by Parks Victoria - Bunyip\n  We have been contacted by FWDV for Parks Vic and received the following information from Andy Musgrove\, Senior Ranger Parks Victoria Gembrook:\n  "Just thought I would give you an outline for the plan on the 30th June.\n  Firstly\, I am looking forward to extending our great relationship with Four Wheel Drive Victoria and in advance we appreciate the support in Fire Recovery from the fires in March which swept through more than half of our Park.\n  We will have the opportunity to give you guys a briefing of the fire the day before which will set a lot of the context of what has happened during the fire and some of the recovery efforts to date.\n  Your involvement in the next stage is key to supporting community interest and ownership of the Bunyip State Park and supporting its regrowth into the future.\n  The aim for the activity for Sunday 30th is the removal of old fence lines that have historically been in place and have been exposed from the fire. It is opportunistic to get them out now before vegetation grows back.\n  When: Sunday 30th June at 9:00 am where we will have a briefing before commencing work.\n  Where: Cannibal Creek Horse Unloading Area on Tynong North Road (near Camp Road intersection)\n  What to bring: Gloves suitable for fencing wire\, fencing plyers\, safety glasses\, suitable clothing and footwear for the day\, lunch\, drinks and snacks.\n  If you don’t have any of the items\, no stress\, I will bring plenty of spares.\n  Ideally we could use up to 20 people for the day to cover a few locations in the same area.\n  Please call me if you have any questions and I look forward to having a safe enjoyable day out there."\n  \n\n  Andy Musgrove\n  Senior Ranger\n  Parks Victoria Gembrook\n  T (03) 8427 2057 I M 0428 148 275 I F (03) 5968 1797\n  E andrew.musgrove@parks.vic.gov.au\n\n  This is all the information we at RRCV have. \n  If you are interested in helping please contact Andy directly - his contact details are above.\n  
DTSTAMP:20260424T154548Z
END:VEVENT
END:VCALENDAR
