BEGIN:VCALENDAR
VERSION:2.0
METHOD:PUBLISH
BEGIN:VEVENT
UID:WILD_APRICOT_EVENT_3385607_SESSION_1
DTSTART:20190720T020000Z
DTEND:20190720T050000Z
SUMMARY:The Innocent Bystander
LOCATION:Healesville
DESCRIPTION:https://www.rangeroverclub.org.au/event-3385607\n\nLunch at The Innocent Bystander in Healesville\n  Date and time: 12 noon on Saturday 20 July.\n  Description:  The Innocent Bystander was voted the "Best Tasting Experience" in the Australia's Best Cellar Door Awards 2018.\n  It's a cellar door\, restaurant and bar.  \n  Let's get together for a nice relaxing lunch in a great atmosphere and start with meeting at the tasting bar at midday before lunch. \n  Visit their website for more information www.innocentbystander.com.au \n  Healesville is a vibrant country town with much to see and do. So\, why not make it a day out by visiting the Healesville Sanctuary or the Maroondah Dam or the Four Pillars Gin Distillery..... or just browse the shops!.\n  Distance:  Healsville is approx. 60 km from the CBD\n  Registration: Unlike an off-road trip\, where cars are counted. We need to know how many people are coming to make sure they all get a seat at the table.\nThe reg form asks you for the number of additional guests - i.e. this is in addition to you.\n  \n\n
DTSTAMP:20260424T171405Z
END:VEVENT
END:VCALENDAR
