BEGIN:VCALENDAR
VERSION:2.0
METHOD:PUBLISH
BEGIN:VEVENT
UID:WILD_APRICOT_EVENT_3385541_SESSION_1
DTSTART:20190510T230000Z
DTEND:20190511T070000Z
SUMMARY:R.Pepper - Trek 19 – Andersons Garden
LOCATION:Wallan - Meet at Hogan’s Bar & Café (92 High St\, Wallan VIC 3756)
DESCRIPTION:https://www.rangeroverclub.org.au/event-3385541\n\nR.Pepper - Trek 19 - Andersons Gardens\n  Date and time:  Saturday 11th May starting at 9am\n  Description:  Offering a driving challenge and some great views\, this trek explores the more isolated areas of the historic Mt Disappointment State Forest. The route takes in sections of track here there are steep ascents and descents\, and deep fords requiring low range work\, as well as walking tracks and scenic places to stop for picnics.\n  This trek delves much deeper into Mount Disappointment State Forest than Trek 11 - Mt Disappointment\, which will be run on Sunday 19 May.\n  Throughout the forest you will find mountain ash in the wetter parts\, while messmate\, grey\, stringybark\, peppermint\, box and candlebark gums are in the drier parts\, and manna gums can be seen mostly around the creeks.\n  In the south of the forests there are views across Sunday Creek Reservoir\, part of Melbourne’s water catchment\, whilst in the north there is a steep walking track to the viewing areas near the 50 m drop of Strath Creek Falls.\n  Weather:  Melbourne region in May – could be anything so be prepared for cold and wet weather.\n  Equipment:  Vehicles need to have low range 4WD capability with good all-terrain tyres and UHF radio equipped (or one borrowed from the club).  Usual recovery gear should be carried. Minimum required would be two shackles and a snatch strap rated for your vehicle.\n  Trip Standard:  Medium/Difficult - Some hills will be greasy after rain\, most of the hills have spoon drains which will require high clearance and slow speed to cross. There is likely to be some slippery mud near water crossings.\n  Fuel: Full tank from Melbourne - Fuel is available in Wallan\n  Distance:  Approx. distance of 210 km round trip from Melbourne - mix of high range and low range driving with several water crossings\n  Duration: 1 day\n  Convoy limit: 8 vehicles\n  Meeting arrangements:  We plan to meet in front of Hogan’s Bar & Café (92 High St\, Wallan VIC 3756) and depart at 9:00am sharp. \n  If you plan to get coffee beforehand then you will need to arrive a little earlier. \n  We will aim to finish about 5.00pm in Strath Creek – maybe earlier depending on the conditions.\n  Trip Leader: Cory Keating m: 0478 844 939\n  Trek Managers: Kenny Macleod\, m: 0421 952 540 and Jo Thyer m: 0411 028 090\n  \n\n
DTSTAMP:20260424T181745Z
END:VEVENT
END:VCALENDAR
