BEGIN:VCALENDAR
VERSION:2.0
METHOD:PUBLISH
BEGIN:VEVENT
UID:WILD_APRICOT_EVENT_3359856_SESSION_1
DTSTART:20190412T230000Z
DTEND:20190414T060000Z
SUMMARY:Reconnaissance- Pyrenees Ranges
LOCATION:Pyrenees Ranges
DESCRIPTION:https://www.rangeroverclub.org.au/event-3359856\n\nRECONNAISSANCE\n  PYRENEES RANGES\n  \n\n  Date and time: 13 April 2019 - 0900\n  Description: This trip is being undertaken by 3 club members as a  reconnaissance trip to explore  the Pyrenees Ranges for the purpose of potentially  conducting a club trip in the future  that will be open to all members. \n  Weather: . Bring appropriate clothing and footwear.\n  Equipment:   Vehicles to have low range 4WD capability with good all-terrain tyres and UHF radio equipped .  Usual recovery gear is to be carried. \n  Trip Standard:   Medium to difficult - some steep\, low-range hill climbs and some rocky tracks.\n  Fuel:  a full tank ex Avoca\n  Duration: 2 days\n  Convoy limit: 3 vehicles\n  Meeting arrangements:  Meet at the Avoca bakery at 0900.\n  Trip Leaders: Karen and Chris Brown.  Phone Karen on 0417 599 820\n  \n\n
DTSTAMP:20260424T171731Z
END:VEVENT
END:VCALENDAR
