BEGIN:VCALENDAR
VERSION:2.0
METHOD:PUBLISH
BEGIN:VEVENT
UID:WILD_APRICOT_EVENT_3303479_SESSION_1
DTSTART:20190507T100000Z
DTEND:20190507T100000Z
SUMMARY:Club meeting
LOCATION:East Malvern RSL
DESCRIPTION:https://www.rangeroverclub.org.au/event-3303479\n\nMonthly Club Meeting\n  Club meetings are held at 8pm on the first Tuesday of most months at East Malvern RSL — check out the calendar for more details\, and then come along and see what we’re about! (let us know you're coming so we can look out for you).\n  You don't need to register but you can if you wish. The Registration button's just there by default.\n  \n\n  \n\n
DTSTAMP:20260424T165303Z
END:VEVENT
END:VCALENDAR
