BEGIN:VCALENDAR
VERSION:2.0
METHOD:PUBLISH
BEGIN:VEVENT
UID:WILD_APRICOT_EVENT_3245615_SESSION_1
DTSTART:20190321T063000Z
DTEND:20190321T090000Z
SUMMARY:ARB Kilsyth Factory Tour
LOCATION:Kilsyth
DESCRIPTION:https://www.rangeroverclub.org.au/event-3245615\n\nARB Kilsyth Factory Tour \n  Description:  Factory tour of ARB Kilsyth\, on the evening of Thursday 21st March. There will be a chance to shop on the night after the tour so bring your cheque book.\n  Meeting arrangements:  Meet at ARB\, Gate 3\, 42/38-44 Garden St\, Kilsyth at 5:30 for a 6:00 start\n  Trip Leader:  Troy Cogan TL (0414884085)\n  
DTSTAMP:20260424T171849Z
END:VEVENT
END:VCALENDAR
