BEGIN:VCALENDAR
VERSION:2.0
METHOD:PUBLISH
BEGIN:VEVENT
UID:WILD_APRICOT_EVENT_3130153_SESSION_1
DTSTART:20190713T230000Z
DTEND:20190714T060000Z
SUMMARY:Disco/RRS tech review - Practical Session
LOCATION:TBA
DESCRIPTION:https://www.rangeroverclub.org.au/event-3130153\n\nDisco/RRS Tech review - Day 2 Practical Session\n  We are running a 2-day event for Discos & RRS. \n  This event has been split into two parts & this is now the 2nd part - the practical session to put into practice what we leared on day 1.\n      * Day 1 - in Melbourne (likely Essendon) with a Land Rover mechanic. We've yet to determine how many can be involved. This has now been set up as a separate event because we can include many more people on Day 1.\n\n        * Day 2 - practical session to test out what we learned on day 1\n\n  If you have a Disco 3/4 or RR Sport you need to know:\n      * terrain response settings\n\n        * platform specific issues\n\n        * setting up for off-road \n\n        * what upgrades you can do\n\n  This has proved more popular than expected so there's now a few people on the wait list. We will run another event at a later date.\n  Contact: Kenny Macleod\n
DTSTAMP:20260424T155736Z
END:VEVENT
END:VCALENDAR
