BEGIN:VCALENDAR
VERSION:2.0
METHOD:PUBLISH
BEGIN:VEVENT
UID:WILD_APRICOT_EVENT_3082500_SESSION_1
DTSTART:20181019T210000Z
DTEND:20181021T060000Z
SUMMARY:Annual Far East Gippsland Track Clearing with Parks Vic.
LOCATION:Far East Gippsland
DESCRIPTION:https://www.rangeroverclub.org.au/event-3082500\n\nAnnual Far East Gippsland Track Clearing with Parks Vic. \n   \n                          Trip Title*:\n                        Annual Far East Gippsland Track Clearing with Parks Vic\n                                  Trip Type*:\n                        Weekend\n                                  Start Date:\n                        20/10/2018\n                                  End Date:\n                        21/10/2018\n                                  General Description*:\n                        Annual Far East Gippsland Track Clearing with Parks Vic\n         \n         We will again be assisting Parks Victoria Rangers with track clearing and track assessments. Tracks will be within the Snowy Rover NP\, Errinundra NP and Alpine NP. We will be travelling in remote mountains and bush with Parks Vic Rangers and this is a marvellous opportunity to experience some remote corners of Gippsland\, assist Parks Vic and learn about how the bush is managed.\n         Dinner on Saturday night will most likely be hosted by the Tubbut Community with assistance from Parks Vic.\n         Trip run in conjunction with the Pajero 4WD Club\, Land Rover Owners’ Club and the VNPA\n                                  Trip Difficulty*:\n                        Medium\n                                  Meeting Place*:\n                        Meeting places to be advised. Some people usually meet at Goongerah or Orbost and others at McKillops Bridge\n                                  Meeting Time*:\n                        08:00 AM\n                                  Minimum tyre type*:\n                        All Terrain\n                                  Required Equipment*:\n                        Low Range\, Snatch strap & shackle\, UHF Radio\n                                  Additional Equipment required:\n                        Camping gear\, food and water for the weekend.\n         Leather gloves\, saws\, crowbar\, shovel.\n         Clothing for wet and cold conditions.\n         Full fuel tank from Orbost or Buchan.\n         Driver training advised.\n         Chain saws together with all safety equipment including chaps\, steel toe capped boots\, helmet\, goggles\, ear muffs for those who have completed a certified chainsaw course. Vehicles with winches encouraged although not compulsory. People required with chainsaws as well as those to clear timber from the tracks.\n                                  Approximate Trip Distance*:\n                        250km Orbost to Orbost\n                                  Maximum Vehicles*:\n                        20\n                                  Trailers permitted:\n                        No\n                                  Accommodation:\n                        Bush camping at McKillops Bridge camping area\n                                  Trip Leader*:\n                        John and Prue Hasler\n                                                            Email*:\n                        p.thwait@bigpond.net.au\n                                  Phone Number:\n                        59757350\n                                  Preferred Contact Method:\n                        Email\n                   \n   \n      \n
DTSTAMP:20260424T171357Z
END:VEVENT
END:VCALENDAR
