BEGIN:VCALENDAR
VERSION:2.0
METHOD:PUBLISH
BEGIN:VEVENT
UID:WILD_APRICOT_EVENT_3076246_SESSION_1
DTSTART:20181018T220000Z
DTEND:20181021T050000Z
SUMMARY:Cruiserkhana 2018
LOCATION:Yark
DESCRIPTION:https://www.rangeroverclub.org.au/event-3076246\n\nTo register for this event you need to do two things\n      * Register and pay at cruiserkhana.com.au and \n\n        * tell us that you have done so by signing up as a club trip here . \n\n\n  \n\n  ==============\n\n  Cruiserkhana is back!\n\n  It's a weekend of fun and competition where teams and individuals compete for some amazing prizes and a trophy - our club won the team event in 2016 and came a close 2nd place last year.\n  Current gathering numbers\, a formal submission needs to be made to the Toyota Land Cruiser club. \n  Note: Price is $195 for driver and navigator - further pricing below:\n\n  Convoy limit: depends on inter-club demand - won't be more than six but might only be three. \n  It's important to register on Cruiserkhana site to ensure you get a space.\n\n  Trip Standard: Easy/Medium - You need a rated recovery point and a snatch strap.\n\n  To view a video of last year’s highlights go to https://youtu.be/3GAGrakKRkk.\n  For more information and to enter on-line go to www.cruiserkhana.com.au.\n  \n\n  Details:\n  \nWhat is CruiserKhana?\n  CruiserKhana is a 4WD competition focused on testing the driver’s skill and knowledge of their vehicles capabilities by simulating various off-road scenarios and conditions. The competition is designed for standard 4WD vehicles or those set up for touring. As a result\, highly modified vehicles are not required.\n  \nWho runs CruiserKhana?\n  CruiserKhana is run by the Toyota Land Cruiser Club of Australia (Victoria) Inc. otherwise known as the TLCCV.\n  \nWhen is CruiserKhana held?\n  The CruiserKhana event is being held over the weekend of the  19/20/21 October 2018.\n  \nWhere is CruiserKhana located?\n  The CruiserKhana event is held at the TLCCV property near Yarck\, in northeast Victoria\, less than a two-hour drive from the outskirts of Melbourne. Signs to the event are displayed from the Yarck Hotel on the Maroondah Highway from midday on the Friday\, October 19th 2018.\n  \nWhat are the costs?\n      * One Competitor and Navigator - $195\n\n\n        * Two Competitors sharing the same vehicle - $265 ($132.50 each)\n\n\n        * Non Competitor - $50 each\n\n\n        * Children under 12 - $ 35\n\n\n        * Children under 5 – free\n\n\n   The cost includes camping and three course presentation dinner on Saturday night.\n  \nAre there Prizes?\n  Yes\, thanks to our Major Partners ARB\, Terrain Tame and Piranha\, as well as many other valued sponsor\, we expect to have over $10\,000 worth of prizes on offer this year.\n  \nHow do I enter?\n  Go to the website www.cruiserkhana.com.au   or just click “Apply Now”.\n  And make sure you sign up as a RRCV trip to tell us you're going.\n  https://www.tlccv.com.au/index.php/cruiserkhana\n  https://www.tlccv.com.au/index.php/cruiserkhana/ckhana-2018-faqs\n  Trip Leader: Kenny Macleod\n
DTSTAMP:20260424T181931Z
END:VEVENT
END:VCALENDAR
