BEGIN:VCALENDAR
VERSION:2.0
METHOD:PUBLISH
BEGIN:VEVENT
UID:WILD_APRICOT_EVENT_2968705_SESSION_1
DTSTART:20180615T230000Z
DTEND:20180616T023000Z
SUMMARY:Four Wheel Drive Victoria Members Update Day
LOCATION:Tende Beck Scout Hall\,  Doncaster
DESCRIPTION:https://www.rangeroverclub.org.au/event-2968705\n\nHello to all Club Executives\, Delegates\, Board and Staff\,\n  Please advise your members of this notice.\n  The next Four Wheel Drive Victoria Members Update Day will be held on Saturday 16th June\, 2018.  An Agenda is attached.\n  PLEASE NOTE THAT ALL MEMBERS ARE WELCOME TO ATTEND.\n  Address:  Tende Beck Scout Hall\, cnr High Street & Doncaster Road\, Doncaster.  Google map link.\n  Time:  9:00am for 9:30am start.  Meeting will conclude at 12:30pm  (Morning tea provided)\n  RSVP via email  office@fwdvictoria.org.au  or phone 03 9874 7222\n  We look forward to seeing you there.\n  Regards\,\n   \n     Alison McLaughlin\n                 Office Manager\n                          Four Wheel Drive Victoria\n                          RTO: 21605\n                          6/27 Thornton Cres Mitcham 3132\n                          PO Box 292\, Mitcham 3132\n                          Ph:  03 9874 7222\n\n                 \n                 SIGN IN and Cuppa – 9:00am for 9:30am start\n                                  1.\n                        WELCOME (President – Garry Doyle)\n                                  2.\n                        ATTENDANCE & APOLOGIES\n                                  3.\n                        CONFIRMATION & ACCEPTANCE OF PREVIOUS MINUTES (MUD180324)\n                                  4.\n                        PRESIDENT’S REPORT\n                                  5.\n                        CEO’S REPORT\, Including RTO report\n                         \n                 Morning Tea – 10:15am to 10:30am\n                                  6.\n                        GUEST SPEAKERS\n          Evan Gale – Team App\n          Shane Monk – Taungurung Clans Aboriginal Corporation\n          \n\n                                  7.\n                        GENERAL BUSINESS\n\n                                          Next Member Update Day\; 15th September 2018 Tatura\n          MEETING CLOSE – 12:30PM\n\n                  \n\n
DTSTAMP:20260424T171539Z
END:VEVENT
END:VCALENDAR
