BEGIN:VCALENDAR
VERSION:2.0
METHOD:PUBLISH
BEGIN:VEVENT
UID:WILD_APRICOT_EVENT_2964990_SESSION_1
DTSTART:20180824T230000Z
DTEND:20180826T060000Z
SUMMARY:Mount Skene Snow Trip
LOCATION:Mt Skene
DESCRIPTION:https://www.rangeroverclub.org.au/event-2964990\n\n Walhalla to Jamieson via Mt Skene\n  We will run a trip to Mt Skene on the w/e of the 25-26 August - We have a permit for 10 cars for the two days.\n  We will meet in Walhalla on Saturday morning and head off North to the Heyfield-Jamieson Road via Aberfeldy and Mt Selma. We'll then follow the Heyfield-Jamieson Road to Mt Skene where we plan to camp. (I have threatened Sherry that if there is enough snow then we'll be camping in an igloo- last year the snow was excellent\, but we arrived too late)).  On Sunday we'll head out to Jamieson.\n   Meeting arrangements Walhalla 9:00 "sharp".\n  Fuel - if you’re using diesel then fill with Alpine diesel and/or add additive to stop it jelling – the instructions on most additives indicate you can’t add too much\n  Trip standard   -   Medium (depending on the weather & track conditions (snow))\n  Equipment -   Warm clothes and wet weather gear.  A tent (pop-up tents can prove to pop-down in heavy snow)\, sleeping bag (suitable to better than -10oC)\, and sleeping mat suitable for camping in the snow. Usual recovery gear of a snatch strap\, shackles\, shovel\, dampener. Vehicles required to have good ground clearance\, good AT tyres and a UHF radio. Wear appropriate clothing to suit weather conditions on the day and snow chains.\n   Trip Leaders: Mark Bown 0437 251 645 or mark.bown@csiro.au\n  Convoy limit -   10 vehicles\n   \n     \n   \n   \n
DTSTAMP:20260424T165054Z
END:VEVENT
END:VCALENDAR
