BEGIN:VCALENDAR
VERSION:2.0
METHOD:PUBLISH
BEGIN:VEVENT
UID:WILD_APRICOT_EVENT_2921505_SESSION_1
DTSTART:20180524T140000Z
DTEND:20180527T140000Z
SUMMARY:4WD VIC Event - Chainsaw Course
LOCATION:Camp Warringal\, Whittlesea
DESCRIPTION:https://www.rangeroverclub.org.au/event-2921505\n\nNOTE: This is not a club event\, contact 4WD Vic if interested.\n  =======================================\n  Chainsaw Course - 25\, 26 & 27 May\, 2018\n  25th May theory Friday night\, & 26th & 27th May practical days.\n  Location – Camp Warringal\, Whittlesea.\n  Special member price is $250.00.\n  Participants must have their own PPE gear.  BYO chainsaw in good working order or borrow one from FWDV.\n  For further information or bookings\, please phone or email the office as soon as possible.\n  Many thanks\,\n  Regards\,\n     Alison McLaughlin\n                 Office Manager\n                           Four Wheel Drive Victoria\n                           6/27 Thornton Cres Mitcham 3132\n                           PO Box 292\, Mitcham 3132\n                           Ph:  03 9874 7222\n                           Web: www.fwdvictoria.org.au\n  \n\n
DTSTAMP:20260424T181909Z
END:VEVENT
END:VCALENDAR
