BEGIN:VCALENDAR
VERSION:2.0
METHOD:PUBLISH
BEGIN:VEVENT
UID:WILD_APRICOT_EVENT_2898799_SESSION_1
DTSTART:20180826T023000Z
DTEND:20180826T050000Z
SUMMARY:Sunday lunch at the Plough in Myrniong
LOCATION:The Plough in Myrniong
DESCRIPTION:https://www.rangeroverclub.org.au/event-2898799\n\n\nSunday lunch at the Plough in Myrniong\nDescription: Lunch at the Plough in Myrniong on Sunday 26th. Aug  A booking has been made for 12 people so sign up if you are interested in a winter Sunday Lunch. \n  Please let use know how many are coming by either adding guests or registering for each person.\n  Trip Leaders : Karen Brown\n
DTSTAMP:20260424T154558Z
END:VEVENT
END:VCALENDAR
