BEGIN:VCALENDAR
VERSION:2.0
METHOD:PUBLISH
BEGIN:VEVENT
UID:WILD_APRICOT_EVENT_2898729_SESSION_1
DTSTART:20180706T230000Z
DTEND:20180708T060000Z
SUMMARY:Bush Mechanics' workshop
LOCATION:Black Spur Inn\, Narbethong
DESCRIPTION:https://www.rangeroverclub.org.au/event-2898729\n\nBush Mechanics' workshop  \n  Description:   A Bush Mechanics' workshop will be run over two days at Jim Kennedy's workshop at the Black Spur Inn and it is a must for long distance travel.\n     Why not make it a social weekend and stay at the Black Spur Inn on the Saturday night. To book accommodation please call (03) 5963 7121.\n    Camping at the back of the Black Spur Inn is also available.\n    Mechanical breakdown is part of 4 Wheel Driving!  A broken spring and a busted shock absorber during a Simpson trip. A snapped trailing arm in a Hilux (albeit the car belongs to another club convoy) on a Butcher Country trip. Leaking radiator\, ran out of spare tyres\, broken CV joints and the list goes on.......\n    Do you have a get out of jail card?  Do you know what to do to get you back to civilization?  If you want to know more about these things\, this is the trip for you!\n    This trip is an extension of the very successful basic mechanic weekend course that Jim already runs.\n    There will be theory and practical demonstration on a variety of minor and major bush repairs which may include:\n    1. What tools to carry on a short and extended trip?\n    2. What spare parts to carry a short and extended trip?\n    3. Minor Bush repairs such as:\n        *                 Tyre repairs            \n\n          *                 Leaks e.g. from radiators\, cooling systems\, fuel tanks\, axles\, hoses\,            \n\n    4. Water in engine\n    5. Busted shockers\n    6. Dead electrics\n    7. Busted windscreens\n    8. Damaged exhaust\n    9. Major bush repairs and “get out of jail card”\n      Duration: 2 days\n      \n      Limit: 10          \n      Meeting arrangements:  The workshop will start at 9:00 on Saturday at the Black Sour Inn\, Narbethong. We will aim to finish about 4.00pm on Sunday          \n      Trip Leaders: Jim Kennedy - Black Spur Inn (03) 5963 7121   \n\n
DTSTAMP:20260424T184726Z
END:VEVENT
END:VCALENDAR
