BEGIN:VCALENDAR
VERSION:2.0
METHOD:PUBLISH
BEGIN:VEVENT
UID:WILD_APRICOT_EVENT_2895391_SESSION_1
DTSTART:20180505T230000Z
DTEND:20180506T060000Z
SUMMARY:Marysville to Thornton
LOCATION:Marysville
DESCRIPTION:https://www.rangeroverclub.org.au/event-2895391\n\nMarysville to Thornton \n\n  Description: We'll be heading towards Neds Gully for morning tea and then up to trestle bridge for lunch. Then returning to the Black Spur Inn for a coffee before we head home. \n     Approx. 1 1/2 hours back to the outer eastern suburbs via the black stuff.\n         Weather:  Check local weather the day before the trip. Bring appropriate clothing and footwear.            \n                   Equipment:  Driver training handy but not essential.  Vehicles need to have low range 4WD capability with good all-terrain tyres and  UHF radio equipped ( or one borrowed from the club).                  \n        \n      \n\n    \n\n    Bring basic recovery gear\; snatchem straps and shackles\, gloves hats and glasses and clothes suitable for the likely conditions.\n    \n\n    Don’t forget to bring your morning tea and lunch.\n         Please leave pets at home.         \n      Trip Standard: Easy/Medium      \n      Fuel: Caltex Fuel available at Marysville        \n      Distance: Approximately 85km      \n      Duration: 1 day      \n      Convoy limit: 4 vehicles plus 6 reserved spaces for new members.  If you would like to come along and the trip is full\, please add your name to the waitlist.  New members will be given preference\, followed by the next on the waitlist.                 Meeting arrangements:  We will leave Marysville 9am sharp.  If you want a coffee before we start you will need to arrive a bit earlier.      \n      Trip Leaders: Troy Cogan TL (0414884085)     \n\n
DTSTAMP:20260424T165539Z
END:VEVENT
END:VCALENDAR
