BEGIN:VCALENDAR
VERSION:2.0
METHOD:PUBLISH
BEGIN:VEVENT
UID:WILD_APRICOT_EVENT_2786278_SESSION_1
DTSTART:20180526T230000Z
DTEND:20180527T060000Z
SUMMARY:Wombat Wanderings - Blackwood to Daylesford and back
LOCATION:Blackwood to Daylesford
DESCRIPTION:https://www.rangeroverclub.org.au/event-2786278\n\nWombat Wanderings - Blackwood to Daylesford and back. \n  Description:   The Wombat State Forest is a beautiful area\, north west of Melbourne with a rich historic history of gold mining and timber milling.  The trip follows a network of\, at times\, challenging 4WD tracks through the Wombat State Forest\, west of Blackwood. \n     The trip from Blackwood to Daylesford is classified as a difficult standard\, mainly in the first half of this outbound leg where we climb to the ridge of the Great Dividing Range\, being  the highest point in the forest at some 878m\, encountering some steep  narrow tracks\, bog holes\, mud ruts which can be  slippery in wet conditions.      \n      The rundown to Daylesford is easier along relatively flat forest tracks although there still may well be soft spots. The return leg back to Blackwood is classified as easy and travels mainly along the Wombat Forest Drive that more or less follows the Lerderderg River valley downstream\, providing a very scenic forest drive\,  finishing at the enchanting Garden of St Erth for coffee and scones.       \n      Blackwood is reached from Melbourne via the western Freeway \, turning off the C318 exit to Greendale and then 17 km to Blackwood. Blackwood is 90 km from Melbourne and should take an hour. Alternatively\, to that of travelling up in the morning\,  there is a caravan park in Blackwood on the Lerderderg River or various B&B's and cottages around Blackwood\, for those that may wish to make a weekend of the trip.   Take lunch and morning tea and appropriate clothing to suit the weather on the day.\n\n  Weather:  Victorian winter\, potentially cold and wet. Bring appropriate clothing and footwear. \n\n  Equipment:  Vehicles need to have low range 4WD capability with good all-terrain tyres and  UHF radio equipped ( or one borrowed from the club). Usual recovery gear should be carried.  \n  Trip Standard: Medium \n\n  Fuel: a full tank ex fuel ex- Melbourne as Blackwood is a sleepy hollow on a Sunday morning.\n  Distance: Approximately 75km\n  Duration: 1 day\n  Convoy limit: 10 vehicles  \n  Meeting Arrangements:  We will meet at the Blackwood General Store\, in the middle of Blackwood (it's only a little town) for a 09:00 departure.\n  Trip Leader: Graeme Allen. Please don't hesitate to contact Graeme on 0477 488 434 or graeme.allen86@gmail.com if you have any queries or require any further information.\n
DTSTAMP:20260424T170402Z
END:VEVENT
END:VCALENDAR
