BEGIN:VCALENDAR
VERSION:2.0
METHOD:PUBLISH
BEGIN:VEVENT
UID:WILD_APRICOT_EVENT_2786246_SESSION_1
DTSTART:20180329T220000Z
DTEND:20180402T060000Z
SUMMARY:Land Rover 70th - Cooma NSW
LOCATION:Cooma NSW
DESCRIPTION:https://www.rangeroverclub.org.au/event-2786246\n\nLand Rover 70th - Cooma NSW\n  \nDescription:   This event is a once every decade Land Rover anniversary at Cooma organised by LROC Victoria\, LROC Sydney\, LRC of ACT and the Range Rover Club NSW.  Further details of this event can be found at www.landrover70thcooma.com . \n  \nThere are a range of activities and accommodation options described on their web site.  All registration details and cost are also on their web site.\n  \nThis is not a club trip\, but by registering\, the event organisers believe that members will be covered by the club's insurance for day trips and other driving activities at the event.  \n     13/Jan/2018 Update Land Rover 70th January update.pdf   \nDuration: 4 days\n
DTSTAMP:20260424T165448Z
END:VEVENT
END:VCALENDAR
