BEGIN:VCALENDAR
VERSION:2.0
METHOD:PUBLISH
BEGIN:VEVENT
UID:WILD_APRICOT_EVENT_2777060_SESSION_1
DTSTART:20180405T230000Z
DTEND:20180408T060000Z
SUMMARY:4WD Victoria Clean up the Bush 2018
LOCATION:Smythesdale
DESCRIPTION:https://www.rangeroverclub.org.au/event-2777060\n\n4WD Victoria Clean up the Bush 2018. \n  Description:   4WD Victoria are looking to perform another Clean Up the Bush activity in 2018 in the Golden Plains Shire region based out of Smythesdale. Arrangements have been made with local Shires\, DELWP  and landowners for disposal of the car bodies\, tyres  etc. This event is  to be held  on the weekend after Easter which is Friday 6th till Sunday 8th April\, based at the Smythesdale Progress Park where 4WD Victoria have camping and toilet facilities available to us. (Caravans\, camper vans and tents are most welcome in this space.)\n  4WD Victoria  will provide catering for Saturday breakfast\, Saturday dinner and Sunday breakfast. Lunch provided by participants.\n  Weather:  Usually quite mild\, but this is Victoria\, potentially cold and wet. Bring appropriate clothing and footwear. \n\n  Equipment: Bring gloves and wear long pants and strong boots. \n  Trip Standard: Easy\n  Distance:  Smythesdale is 18 km south west of Ballarat.\n  Duration: 2 days although participants can attend the one day if preferred.\n  Meeting Arrangements:  9:00 am Saturday morning at  the Smythesdale Progress Park\, although some participants are likely to meet Friday night for a dinner beforehand in Smythesdale and camp on the Friday night.\n  Trip Leaders: Contact either  Graeme Allen (0477 488 434 ) or Graeme Carter (0400 195 932) for any further information required.\n
DTSTAMP:20260424T165104Z
END:VEVENT
END:VCALENDAR
