BEGIN:VCALENDAR
VERSION:2.0
METHOD:PUBLISH
BEGIN:VEVENT
UID:WILD_APRICOT_EVENT_2746836_SESSION_1
DTSTART:20180616T000000Z
DTEND:20180617T060000Z
SUMMARY:First-Aid course.
LOCATION:Black Spur Inn\, Narbethong
DESCRIPTION:https://www.rangeroverclub.org.au/event-2746836\n\n\nTwo-day Certified First-Aid course.\n  A couple of years ago\, the club ran a certified 2-day first aid course\, focussing on being in the outback. It was an awesome course and well received. \n  It's time for a refresher and/or to learn!\n  Date/time: Saturday June 16 and Sunday June 17. \n2 day course\, 5.5 hours per day \n  Location: Black Spur Inn\, Narbethong\n\n  You can book accommodation at the Black Spur Inn \n  http://www.blackspurinn.com.au\n  Mention you are with the club for a 10% discount\n  Camping is also available behind the Black Spur Inn. Please contact the Black Spur Inn Reception on arrival for details of where to camp.\n  \n\n  Course: Outback First Aid/Provide First Aid (HLTAID003)\n\n  The package includes:\n      * 2 days of interactive first aid training\n\n\n        * First Aid book\n\n\n        * Gifts and prizes\n\n\n        * Nationally recognised Apply First Aid certificate (if required)\n\n\n        * Discounted First Aid products\n\n\n   What to do:\n  Please wear comfortable clothing\n  Bring a pen and paper\n  Please apply for a Unique Student Identifier (USI) and bring it on the day (Only if you want a certificate). You may have one from previous years. You can apply here http://usi.gov.au \n  Course Leader: James Azzam from Designer First Aid Solutions\n  http://www.dfas.com.au/\n\n  James is highly experienced with a Bachelor of Emergency health (Paramedics) and extensive First Aid training. He has spent years in the 4WD world so understands the requirements for being offroad.\n  Cost:\n  Cost for the course is $140 (+ $3 credit card fee) for the 2 days. If a first aid certificate is not wanted\, you will receive a $15 credit to use towards first aid products. \n  \n\n  Trip Leader: Jo Thyer (0411 028090)\n\n  \n\n
DTSTAMP:20260424T170332Z
END:VEVENT
END:VCALENDAR
