BEGIN:VCALENDAR
VERSION:2.0
METHOD:PUBLISH
BEGIN:VEVENT
UID:WILD_APRICOT_EVENT_2739534_SESSION_1
DTSTART:20180207T220000Z
DTEND:20180227T050000Z
SUMMARY:East and West Coast of Tasmania
LOCATION:East and West Coast of Tasmania
DESCRIPTION:https://www.rangeroverclub.org.au/event-2739534\n\nEast and West Coast of Tasmania  \n  Description:  We will be conducting a trip mainly on the West coast of Tasmania but also covering the South and the East. It will be a combination of Hard Medium and Easy. Some camping and some Motel accommodation.\n\n  This in an exploratory trip so we will be taking it as it comes. Vehicles will need to be set up for hard driving definitely not suitable for trailers.\n  Weather:  All seasons\, potentially cold and wet. Bring appropriate clothing and footwear. \n\n  Equipment:  Vehicles need to have low range 4WD capability with good all-terrain tyres and  UHF radio equipped ( or one borrowed from the club). Usual recovery gear should be carried.  \n  Trip Standard: Hard.  A range of terrain will be covered. Vehicles will need to be set up for hard driving definitely not suitable for trailers.\n\n  Convoy limit: 6 vehicles  \n  Meeting Arrangements:  TBA\n  Trip Leaders:  Jim Kennedy 0428392004. jim@safetrek.com.au.  Call me if interested\n  \n\n
DTSTAMP:20200228T211817Z
END:VEVENT
END:VCALENDAR
