BEGIN:VCALENDAR
VERSION:2.0
METHOD:PUBLISH
BEGIN:VEVENT
UID:WILD_APRICOT_EVENT_2734675_SESSION_1
DTSTART:20171206T010000Z
DTEND:20171206T030000Z
SUMMARY:Christmas party & club meeting
LOCATION:Black Rock Sailing Club\, Black Rock\, Victoria
DESCRIPTION:https://www.rangeroverclub.org.au/event-2734675\n\nOur Christmas party & meeting is at the Black Rock Sailing Club.\n  No speaker at this event but members are invited to bring along a plate of food to share. \n  In addition to the food\, we'll follow the core meeting structure of:\n      * New members welcome\n\n        * Trip reports\n\n        * Raffle (including our super raffle of major prizes gathered from sponsors over the year)\n\n\n        * General club business \n\n     If you are not a member and interested in joining let us know you're coming so we can help you feel welcome.\n 
DTSTAMP:20200228T211913Z
END:VEVENT
END:VCALENDAR
