BEGIN:VCALENDAR
VERSION:2.0
METHOD:PUBLISH
BEGIN:VEVENT
UID:WILD_APRICOT_EVENT_2731071_SESSION_1
DTSTART:20171208T133000Z
DTEND:20171209T050000Z
SUMMARY:Range Rover End of Year Picnic / BBQ
LOCATION:10 McNabs Road Keilor North
DESCRIPTION:https://www.rangeroverclub.org.au/event-2731071\n\nTHIS EVENT HAS BEEN CANCELLED  DUE LACK OF NUMBERS\n  Range Rover End of Year Picnic / BBQ  \n  Description:   Michael and Michelle have once again kindly agreed to host the club’s Christmas Picnic / BBQ at their property on the banks of the Maribyrnong river in Keilor. \n  There will be plenty of space for kids  to ride a bike\, throw a fishing line in\, canoe a little or just go for a walk. Talking\, eating and drinking also acceptable activities.  All in all a very layback afternoon the goal .\n  Equipment : a couple of 4 burner BBQs\, club  tent\, a couple of canoes\, portable toilets and lots of trees and grass provided - BYO everything  else.\n\n  Please register (particularly if you're bringing children) by Thursday\, so Father Christmas can prepare some pressies. Please also use the Notes Section of the Registration form to let us know ages and sexes of children.\n\n  However\, if you can\,t register a child's attendance by Thursday\, please help bring a book for each child that you bring so they are included in the fun - wrapped and tagged to the value of $10-15.\n\n  Please note: As this is a BYO party\, don't forget to bring your own food & drinks.\n\n  Location /Directions: 10 McNabs Road Keilor North ( last property at south end of road between road and freeway  The gravel drive is half a kilometre. Drive though farm yard heading south to River ( please close gates after you).\n\n  If all else fails ring Mike on 0410 910 417  Look forward to seeing you there.\n  Many thanks Mike and Michelle. \n
DTSTAMP:20200228T211901Z
END:VEVENT
END:VCALENDAR
