BEGIN:VCALENDAR
VERSION:2.0
METHOD:PUBLISH
BEGIN:VEVENT
UID:WILD_APRICOT_EVENT_2730496_SESSION_1
DTSTART:20180303T213000Z
DTEND:20180304T060000Z
SUMMARY:Driver Training Practical
LOCATION:
DESCRIPTION:https://www.rangeroverclub.org.au/event-2730496\n\nDO NOT REGISTER HERE FOR DRIVER TRAINING. GO THE THE THEORY EVENT AND REGISTER THERE.\n
DTSTAMP:20260424T165329Z
END:VEVENT
END:VCALENDAR
