BEGIN:VCALENDAR
VERSION:2.0
METHOD:PUBLISH
BEGIN:VEVENT
UID:WILD_APRICOT_EVENT_2730491_SESSION_1
DTSTART:20180228T083000Z
DTEND:20180228T113000Z
SUMMARY:Driver Training Theory
LOCATION:East Malvern RSL Club\, Flanders Room (ex Ladies Bowls Room downstairs).
DESCRIPTION:https://www.rangeroverclub.org.au/event-2730491\n\nLAST CHANCE TO GET YOUR 4WDIng SKILLS UP TO SCRATCH PRIOR TO OUR EPIC DARGO WEEKEND TRIP. \n  Targeted at new members\, but also open to members who have recently changed vehicles or need a refresher. This course is free to new members and a nominal charge is applicable for repeat members. The RRCV's Driver Trainers are accredited with FWDV and on completion of both theory and practical sessions\, you will receive a proficiency certificate that is recognised by all FWDV affiliated clubs. Theory is at East Malvern RSL Club\, Flanders Room (ex Ladies Bowls Room downstairs). \n  Time: Course commences at 7:30pm sharp - please arrive at least 10 minutes beforehand to complete some paperwork. The practical session is on the Sunday March 4th  (details provided at the Theory session) - sign up here for both the theory and practical sessions. \n  Signups: members - please log in and sign up via the form below. Enquiries to the driver training co-ordinator\, Manole Ioannou. training@rangeroverclub.org.au \n  Please note that student numbers are limited by the number of instructors available. \n  Be prepared to learn and have fun! \n  Note: If this session is fully booked please register your interest by emailing training@rangeroverclub.org.au and we will organise another course as soon as possible.\n
DTSTAMP:20260424T171703Z
END:VEVENT
END:VCALENDAR
