BEGIN:VCALENDAR
VERSION:2.0
METHOD:PUBLISH
BEGIN:VEVENT
UID:WILD_APRICOT_EVENT_2638680_SESSION_1
DTSTART:20171007T213000Z
DTEND:20171008T063000Z
SUMMARY:Driver Training Practical
LOCATION:Black Spur Inn
DESCRIPTION:https://www.rangeroverclub.org.au/event-2638680\n\nDo not Register here. Register for  the theory night event only\n  \n\n
DTSTAMP:20200228T212042Z
END:VEVENT
END:VCALENDAR
