BEGIN:VCALENDAR
VERSION:2.0
METHOD:PUBLISH
BEGIN:VEVENT
UID:WILD_APRICOT_EVENT_2585072_SESSION_1
DTSTART:20170819T230000Z
DTEND:20170820T070000Z
SUMMARY:Wombat Day Trip\, Easy to Medium Std.
LOCATION:Gisborne to Blackwood
DESCRIPTION:https://www.rangeroverclub.org.au/event-2585072\n\nWombat Day trip\n  Easy to medium Standard - Suitable for new members\n      \n  Meeting Place: Please note a change to the meeting point- Outside Foodworks in Gisborne - Main street.\n  Details to follow shortly\;   \n  Equipment -   Usual recovery gear of a snatch strap\, shackles\, shovel\, dampener\, jack base etc. Vehicles required to have good ground clearance\, good tyres and a UHF radio. Wear appropriate clothing to suit weather conditions on the day.\n   \n  Trip Leaders: John Cunning\n  0488018070 \n   \n  Convoy limit -   4 + 4 reserve spots for new members \n   \n
DTSTAMP:20200228T212150Z
END:VEVENT
END:VCALENDAR
