BEGIN:VCALENDAR
VERSION:2.0
METHOD:PUBLISH
BEGIN:VEVENT
UID:WILD_APRICOT_EVENT_2569181_SESSION_1
DTSTART:20171026T220000Z
DTEND:20171029T050000Z
SUMMARY:Cruiserkhana
LOCATION:Yark
DESCRIPTION:https://www.rangeroverclub.org.au/event-2569181\n\nThe trip is no longer accepting registrations via the club website.  If you wish to participate\, please register at cruiserkhana.com.au and tell us that you have done so. \n  At this point\, we have one team of three people\; if you register now\, you will be added to Team 2 in the hope of reaching a 2nd team of 3 cars.\n  ==============\n  Trip Leader: Kenny Macleod (0421 952 540) \n\n  Cruiserkhana is back a little later than normal. \n  It's a weekend of fun and competition we're teams and individuals compete for some amazing prizes and a trophy - the club won the team eventast year. \n  Current gathering numbers\, a formal submission needs to be made to the Toyota Land Cruiser club. \n  We will try for two teams of three this year. If it fills up add yourself to the waitlist and well see if we can get a third team together. \n  Note: Early bird price is $121 per driver and $60 per navigator. After July\, it goes up by around $20.\n  We'll post more soon... \n  Trip Standard: Easy/Medium\n\n  \n\n
DTSTAMP:20200228T212019Z
END:VEVENT
END:VCALENDAR
