BEGIN:VCALENDAR
VERSION:2.0
METHOD:PUBLISH
BEGIN:VEVENT
UID:WILD_APRICOT_EVENT_2556732_SESSION_1
DTSTART:20170806T030000Z
DTEND:20170806T053000Z
SUMMARY:A Sunday Lunch at The Plough Trentham
LOCATION:Trentham
DESCRIPTION:https://www.rangeroverclub.org.au/event-2556732\n\nLunch at the Plough in Trentham on Sunday 6th. Aug at 1.00 pm\n  A booking has been made for 16 people so sign up if you are interested in a winter Sunday Lunch.\n  More details to follow shortly\n  \n\n  Trip Leader: Karen Brown\n  \n\n
DTSTAMP:20200228T212201Z
END:VEVENT
END:VCALENDAR
