BEGIN:VCALENDAR
VERSION:2.0
METHOD:PUBLISH
BEGIN:VEVENT
UID:WILD_APRICOT_EVENT_2525808_SESSION_1
DTSTART:20170705T230000Z
DTEND:20170718T070000Z
SUMMARY:Simpson Desert\, Birdsville and Corner Country
LOCATION:Oodnadatta\, Simpson Desert\, Corner Country
DESCRIPTION:https://www.rangeroverclub.org.au/event-2525808\n\nTrip Leader: John Cunning & Simon Brewin\n  General Trip Overview\n We plan to start the trip from Oodnadatta meeting there on the Wednesday evening 5th. July and crossing the desert at a leisurely  pace and a few late starts or early finishes to provide time to sook up the desert.\n  We will have a full day in Birdsville to look around and then travel home via the corner country taking in Cordillo downs (largest sheep shed in Australia) and then Innamincka and the Dig tree before heading back to Melbourne.\n  Meeting Point: Oodnadatta\, the night before i.e.) Wednesday 5th. July\n  Trip Standard/Characteristics: Medium\,\n  This is a remote area trip and the desert sands can be quite soft.\n  The tracks leading from Birdsville an to Oodnadatta can be rough and corrugated.\n  You will need fuel for at lease 800km of desert driving and food and water for 5 days + emergency requirements in the desert.\n  Min 6 litres per person per day in the desert.\n  A desert parks pass is required\, these can be purchased on line or from National Parks South Australia (aprox. $160 per vehicle)\n  Vehicle Requirements: Well maintained vehicle in good condition is essential. good clearance\, good all terrain tyres.\n  Basic mechanical spares suitable for your vehicle should be carried\n  A second spare tyre should also be carried\n  Sand Flags that comply to Simpson desert requirements are mandatory\n  No Trailers\, firearms\, pets  \n  Vehicle limit: 8\n  Other Equipment: standard recovery gear including dampener\, rated snatch strap and shackles\, shovel and UHF radio. The group will carry at least one sat phone\, if you have personal recovery beacons please bring these.\n   \n  Copy of Simpson Desert Birdsville Corner Country.xlsx \n  http://www.environment.sa.gov.au/parks/Safety/desert-outback-wise\n  Useful Links:\n  https://www.environment.sa.gov.au/parks/Find_a_Park/Browse_by_region/flinders-ranges-outback/simpson-desert-conservation-park-regional-reserve\n  https://www.environment.sa.gov.au/parks/Find_a_Park/Browse_by_region/flinders-ranges-outback/innamincka-regional-reserve#see-and-do\n     \n Convoy limit: 8 Vehicles\n  Trip Leader Details:\n  John Cunning\; 0488018070\n  Simon Brewin\; 0409533401\n   \n   \n
DTSTAMP:20200228T212321Z
END:VEVENT
END:VCALENDAR
