BEGIN:VCALENDAR
VERSION:2.0
METHOD:PUBLISH
BEGIN:VEVENT
UID:WILD_APRICOT_EVENT_2513081_SESSION_1
DTSTART:20170609T220000Z
DTEND:20170612T060000Z
SUMMARY:Butcher country track/caledonia track
LOCATION:Licola Victoria
DESCRIPTION:https://www.rangeroverclub.org.au/event-2513081\n\nThis butcher country trip will be run in the opposite direction\, meeting in Mansfield Saturday morning and ending in Licola on Monday about lunch.\n  I'm also going to change the last part of the trip exploring part of caledonia track\, dingo hill track and Kelly's track.\n  The trip will be mobile recommend swag or small tent\, no camper trailers\, prepare for all weather!\n  Trip is over 3 days\n  Max 8 4wds including trip leader\n\n  Must have all terrain tyres\n  Must have done driver training\n  Must have recovery gear\, Recovery points front and rear are required and a snatchem strap must be carried.\n  Must have CB radio \n  There are several river crossings which can vary in depth\, some requiring a snorkel\, depending on conditions.\n  Full tanks of fuel leaving Mansfield. Fuel additive for Diesel cars is recommended\n  Meeting Point: Mansfield central  carpark in main street\n  Trip Standard/Characteristics: Medium to hard "just add water"\n  Vehicle Requirements: Well maintained vehicle with low range\, good clearance\, good all terrain tyres.\n  Other Equipment: standard recovery gear including dampener\, rated snatch strap and shackles\, shovel and UHF radio.\n  \n\n  And preferred trucks to have snorkel\n  Depending on weather\n  \n\n
DTSTAMP:20200228T212355Z
END:VEVENT
END:VCALENDAR
