BEGIN:VCALENDAR
VERSION:2.0
METHOD:PUBLISH
BEGIN:VEVENT
UID:WILD_APRICOT_EVENT_2499700_SESSION_1
DTSTART:20170609T230000Z
DTEND:20170612T070000Z
SUMMARY:Butcher Country - Queen's Birthday Weekend
LOCATION:Licola to Mansfield
DESCRIPTION:https://www.rangeroverclub.org.au/event-2499700\n\nTrip Leader: Ross Dean\n  General Trip Overview\n\n  Butcher Country Queen’s Birthday Weekend 2017.\n  High country seasonal closure book end tour\, led by Ross Dean\n  This trip is a mobile tour\, camping in different locations each night\, and is unsuitable for elaborate tents and camper trailers.\n  Our tour starts in Licola\, traversing the Butcher Country track\, visiting the Howitt High Plains\, several cattleman huts and spectacular views of the Alps\, coming to conclusion at Sheep Yard Flat (near Mansfield) on Monday after lunch.\n\n  There are several river crossings which can vary in depth\, some requiring a snorkel\, depending on conditions.\n\n  Parts of the track are steep and rocky\, other parts are muddy or snow covered (I hope for snow but no guarantee) requiring all terrain tyres (not road tyres). Recovery points front and rear are required and a snatchem strap must be carried.\n\n  Full tanks of fuel leaving Licola (fuel is not always available). Fuel additive for Diesel cars is recommended\n  This trip has a solid medium rating\, not extreme.\n  Meeting Point: Licola general store and cacamp ground\nTrip Standard/Characteristics:Medium any    Vehicle Requirements: Well maintained vehicle with low range\, good clearance\, good all terrain tyres.\n  Other Equipment: standard recovery gear including dampener\, rated snatch strap and shackles\, shovel and UHF radio.\n  \n\n  \n\n  Convoy limit: 8 Vehicles\n  Trip Leader Details:\n  Ross Dean\n  Mobile:  0418171835\n  \n\n
DTSTAMP:20200228T212343Z
END:VEVENT
END:VCALENDAR
