BEGIN:VCALENDAR
VERSION:2.0
METHOD:PUBLISH
BEGIN:VEVENT
UID:WILD_APRICOT_EVENT_2486104_SESSION_1
DTSTART:20170727T073000Z
DTEND:20170727T100000Z
SUMMARY:ARB Factory Tour
LOCATION:ARB\, Gate 3\, 42/38-44 Garden St\, Kilsyth
DESCRIPTION:https://www.rangeroverclub.org.au/event-2486104\n\nTrip Leader: Troy Cogan TL (0414884085)\n  Description: Factory tour of ARB Kilsyth\, looking at the evening of Thursday 27th July\n  5:30 for a 6:00 start\n  \n\n  Convoy limit: No Limit\n\n  \n  \n   \n
DTSTAMP:20200228T212212Z
END:VEVENT
END:VCALENDAR
