BEGIN:VCALENDAR
VERSION:2.0
METHOD:PUBLISH
BEGIN:VEVENT
UID:WILD_APRICOT_EVENT_2484354_SESSION_1
DTSTART:20170428T220000Z
DTEND:20170430T060000Z
SUMMARY:Marysville Show and Shine
LOCATION:Marysville\, Victoria
DESCRIPTION:https://www.rangeroverclub.org.au/event-2484354\n\nMarysville Show 'n Shine\, come along and show off your unique vehicle setup or unique car.\n  For other information\, check out the Event Facebook Page\n\n  More details to follow soon!\n  Meanwhile contact Jim Kennedy on 0428392004 for more information.\n\n  \n\n  \n\n
DTSTAMP:20200228T212454Z
END:VEVENT
END:VCALENDAR
