BEGIN:VCALENDAR
VERSION:2.0
METHOD:PUBLISH
BEGIN:VEVENT
UID:WILD_APRICOT_EVENT_2482026_SESSION_1
DTSTART:20170324T220000Z
DTEND:20170326T060000Z
SUMMARY:Advanced Recovery Training Course
LOCATION:Tallarook Forest Training Area.
DESCRIPTION:https://www.rangeroverclub.org.au/event-2482026\n\nTrip Leader: Jim Kennedy \n\n  Description:\n  An Advanced recovery course will be held at Tallarook Forest Training Area.\n  Cost $100 (estimated)\n  Please contact Jim on 0428 392 004 or jim@safetrek.com.au\n\n  More details to follow shortly \n  Trip Standard: Hard\n  \n\n
DTSTAMP:20200228T212547Z
END:VEVENT
END:VCALENDAR
