BEGIN:VCALENDAR
VERSION:2.0
METHOD:PUBLISH
BEGIN:VEVENT
UID:WILD_APRICOT_EVENT_2480899_SESSION_1
DTSTART:20170421T233000Z
DTEND:20170425T070000Z
SUMMARY:Coonawarra Trip
LOCATION:Coonawarra\, S.A.
DESCRIPTION:https://www.rangeroverclub.org.au/event-2480899\n\nSat.22nd (@ 9:30am) to Tue 25th. April ( ANZAC Day)\n  We would like to stay at the bush camping area at Bellwether Winery. There is power and water for 8 caravan and tent sites plus 4 glam tents. Unpowered sites are also available.\n  Toilets\, showers and BBQ area also available. You can view details at the website: www.bellwetherwines.com.au \n  Option to stay at local motel also. We plan to use the fire pit for one evening meal and go out for another.\n  Plenty of time to visit wineries and Penola.\n  Limit : 10 cars\n  Contact Bruce Bloomfield for more details: 0418380535\n  ** Start date changed to Sat 22nd because the Friday is a travel day. **\n
DTSTAMP:20200228T212509Z
END:VEVENT
END:VCALENDAR
