BEGIN:VCALENDAR
VERSION:2.0
METHOD:PUBLISH
BEGIN:VEVENT
UID:WILD_APRICOT_EVENT_2480880_SESSION_1
DTSTART:20180205T090000Z
DTEND:20180205T110000Z
SUMMARY:Club Meeting - 8pm on 1st Tuesday of most months (session 1 of 11)
LOCATION:East Malvern RSL
DESCRIPTION:https://www.rangeroverclub.org.au/event-2480880\n\nWe meet at 8pm on the 1st Tuesday of most month (avoiding January and some major holidays).\n  The East Malvern RSL has a good bistro\, and there's time to eat if you get there by 6:30-7:00.\n\n  We follow a general structure but the evening is a fairly informal event:\n\n      * New members welcome\n\n        * Trip reports\n\n        * Guest speaker (or guided discussion on a relevant subject)\n\n        * Tea break (tea provided)\n\n        * Raffle \n\n        * General club business \n\n     If you are not a member and interested in joining let us know you're coming so we can help you feel welcome.\n 
DTSTAMP:20200228T211828Z
END:VEVENT
BEGIN:VEVENT
UID:WILD_APRICOT_EVENT_2480880_SESSION_2
DTSTART:20180305T090000Z
DTEND:20180305T110000Z
SUMMARY:Club Meeting - 8pm on 1st Tuesday of most months (session 2 of 11)
LOCATION:East Malvern RSL
DESCRIPTION:https://www.rangeroverclub.org.au/event-2480880\n\nWe meet at 8pm on the 1st Tuesday of most month (avoiding January and some major holidays).\n  The East Malvern RSL has a good bistro\, and there's time to eat if you get there by 6:30-7:00.\n\n  We follow a general structure but the evening is a fairly informal event:\n\n      * New members welcome\n\n        * Trip reports\n\n        * Guest speaker (or guided discussion on a relevant subject)\n\n        * Tea break (tea provided)\n\n        * Raffle \n\n        * General club business \n\n     If you are not a member and interested in joining let us know you're coming so we can help you feel welcome.\n 
DTSTAMP:20200228T211828Z
END:VEVENT
BEGIN:VEVENT
UID:WILD_APRICOT_EVENT_2480880_SESSION_3
DTSTART:20180402T100000Z
DTEND:20180402T120000Z
SUMMARY:Club Meeting - 8pm on 1st Tuesday of most months (session 3 of 11)
LOCATION:East Malvern RSL
DESCRIPTION:https://www.rangeroverclub.org.au/event-2480880\n\nWe meet at 8pm on the 1st Tuesday of most month (avoiding January and some major holidays).\n  The East Malvern RSL has a good bistro\, and there's time to eat if you get there by 6:30-7:00.\n\n  We follow a general structure but the evening is a fairly informal event:\n\n      * New members welcome\n\n        * Trip reports\n\n        * Guest speaker (or guided discussion on a relevant subject)\n\n        * Tea break (tea provided)\n\n        * Raffle \n\n        * General club business \n\n     If you are not a member and interested in joining let us know you're coming so we can help you feel welcome.\n 
DTSTAMP:20200228T211828Z
END:VEVENT
BEGIN:VEVENT
UID:WILD_APRICOT_EVENT_2480880_SESSION_4
DTSTART:20180507T100000Z
DTEND:20180507T120000Z
SUMMARY:Club Meeting - 8pm on 1st Tuesday of most months (session 4 of 11)
LOCATION:East Malvern RSL
DESCRIPTION:https://www.rangeroverclub.org.au/event-2480880\n\nWe meet at 8pm on the 1st Tuesday of most month (avoiding January and some major holidays).\n  The East Malvern RSL has a good bistro\, and there's time to eat if you get there by 6:30-7:00.\n\n  We follow a general structure but the evening is a fairly informal event:\n\n      * New members welcome\n\n        * Trip reports\n\n        * Guest speaker (or guided discussion on a relevant subject)\n\n        * Tea break (tea provided)\n\n        * Raffle \n\n        * General club business \n\n     If you are not a member and interested in joining let us know you're coming so we can help you feel welcome.\n 
DTSTAMP:20200228T211828Z
END:VEVENT
BEGIN:VEVENT
UID:WILD_APRICOT_EVENT_2480880_SESSION_5
DTSTART:20180604T100000Z
DTEND:20180604T120000Z
SUMMARY:Club Meeting - 8pm on 1st Tuesday of most months (session 5 of 11)
LOCATION:East Malvern RSL
DESCRIPTION:https://www.rangeroverclub.org.au/event-2480880\n\nWe meet at 8pm on the 1st Tuesday of most month (avoiding January and some major holidays).\n  The East Malvern RSL has a good bistro\, and there's time to eat if you get there by 6:30-7:00.\n\n  We follow a general structure but the evening is a fairly informal event:\n\n      * New members welcome\n\n        * Trip reports\n\n        * Guest speaker (or guided discussion on a relevant subject)\n\n        * Tea break (tea provided)\n\n        * Raffle \n\n        * General club business \n\n     If you are not a member and interested in joining let us know you're coming so we can help you feel welcome.\n 
DTSTAMP:20200228T211828Z
END:VEVENT
BEGIN:VEVENT
UID:WILD_APRICOT_EVENT_2480880_SESSION_6
DTSTART:20180702T100000Z
DTEND:20180702T120000Z
SUMMARY:Club Meeting - 8pm on 1st Tuesday of most months (session 6 of 11)
LOCATION:East Malvern RSL
DESCRIPTION:https://www.rangeroverclub.org.au/event-2480880\n\nWe meet at 8pm on the 1st Tuesday of most month (avoiding January and some major holidays).\n  The East Malvern RSL has a good bistro\, and there's time to eat if you get there by 6:30-7:00.\n\n  We follow a general structure but the evening is a fairly informal event:\n\n      * New members welcome\n\n        * Trip reports\n\n        * Guest speaker (or guided discussion on a relevant subject)\n\n        * Tea break (tea provided)\n\n        * Raffle \n\n        * General club business \n\n     If you are not a member and interested in joining let us know you're coming so we can help you feel welcome.\n 
DTSTAMP:20200228T211828Z
END:VEVENT
BEGIN:VEVENT
UID:WILD_APRICOT_EVENT_2480880_SESSION_7
DTSTART:20180806T100000Z
DTEND:20180806T120000Z
SUMMARY:Club Meeting - 8pm on 1st Tuesday of most months (session 7 of 11)
LOCATION:East Malvern RSL
DESCRIPTION:https://www.rangeroverclub.org.au/event-2480880\n\nWe meet at 8pm on the 1st Tuesday of most month (avoiding January and some major holidays).\n  The East Malvern RSL has a good bistro\, and there's time to eat if you get there by 6:30-7:00.\n\n  We follow a general structure but the evening is a fairly informal event:\n\n      * New members welcome\n\n        * Trip reports\n\n        * Guest speaker (or guided discussion on a relevant subject)\n\n        * Tea break (tea provided)\n\n        * Raffle \n\n        * General club business \n\n     If you are not a member and interested in joining let us know you're coming so we can help you feel welcome.\n 
DTSTAMP:20200228T211828Z
END:VEVENT
BEGIN:VEVENT
UID:WILD_APRICOT_EVENT_2480880_SESSION_8
DTSTART:20180904T100000Z
DTEND:20180904T120000Z
SUMMARY:Club Meeting - 8pm on 1st Tuesday of most months (session 8 of 11)
LOCATION:East Malvern RSL
DESCRIPTION:https://www.rangeroverclub.org.au/event-2480880\n\nWe meet at 8pm on the 1st Tuesday of most month (avoiding January and some major holidays).\n  The East Malvern RSL has a good bistro\, and there's time to eat if you get there by 6:30-7:00.\n\n  We follow a general structure but the evening is a fairly informal event:\n\n      * New members welcome\n\n        * Trip reports\n\n        * Guest speaker (or guided discussion on a relevant subject)\n\n        * Tea break (tea provided)\n\n        * Raffle \n\n        * General club business \n\n     If you are not a member and interested in joining let us know you're coming so we can help you feel welcome.\n 
DTSTAMP:20200228T211828Z
END:VEVENT
BEGIN:VEVENT
UID:WILD_APRICOT_EVENT_2480880_SESSION_9
DTSTART:20181002T100000Z
DTEND:20181002T120000Z
SUMMARY:Club Meeting - 8pm on 1st Tuesday of most months (session 9 of 11)
LOCATION:East Malvern RSL
DESCRIPTION:https://www.rangeroverclub.org.au/event-2480880\n\nWe meet at 8pm on the 1st Tuesday of most month (avoiding January and some major holidays).\n  The East Malvern RSL has a good bistro\, and there's time to eat if you get there by 6:30-7:00.\n\n  We follow a general structure but the evening is a fairly informal event:\n\n      * New members welcome\n\n        * Trip reports\n\n        * Guest speaker (or guided discussion on a relevant subject)\n\n        * Tea break (tea provided)\n\n        * Raffle \n\n        * General club business \n\n     If you are not a member and interested in joining let us know you're coming so we can help you feel welcome.\n 
DTSTAMP:20200228T211828Z
END:VEVENT
BEGIN:VEVENT
UID:WILD_APRICOT_EVENT_2480880_SESSION_10
DTSTART:20181113T090000Z
DTEND:20181113T110000Z
SUMMARY:Club Meeting - 8pm on 1st Tuesday of most months (session 10 of 11)
LOCATION:East Malvern RSL
DESCRIPTION:https://www.rangeroverclub.org.au/event-2480880\n\nWe meet at 8pm on the 1st Tuesday of most month (avoiding January and some major holidays).\n  The East Malvern RSL has a good bistro\, and there's time to eat if you get there by 6:30-7:00.\n\n  We follow a general structure but the evening is a fairly informal event:\n\n      * New members welcome\n\n        * Trip reports\n\n        * Guest speaker (or guided discussion on a relevant subject)\n\n        * Tea break (tea provided)\n\n        * Raffle \n\n        * General club business \n\n     If you are not a member and interested in joining let us know you're coming so we can help you feel welcome.\n 
DTSTAMP:20200228T211828Z
END:VEVENT
BEGIN:VEVENT
UID:WILD_APRICOT_EVENT_2480880_SESSION_11
DTSTART:20181204T090000Z
DTEND:20181204T110000Z
SUMMARY:Club Meeting - 8pm on 1st Tuesday of most months (session 11 of 11)
LOCATION:East Malvern RSL
DESCRIPTION:https://www.rangeroverclub.org.au/event-2480880\n\nWe meet at 8pm on the 1st Tuesday of most month (avoiding January and some major holidays).\n  The East Malvern RSL has a good bistro\, and there's time to eat if you get there by 6:30-7:00.\n\n  We follow a general structure but the evening is a fairly informal event:\n\n      * New members welcome\n\n        * Trip reports\n\n        * Guest speaker (or guided discussion on a relevant subject)\n\n        * Tea break (tea provided)\n\n        * Raffle \n\n        * General club business \n\n     If you are not a member and interested in joining let us know you're coming so we can help you feel welcome.\n 
DTSTAMP:20200228T211828Z
END:VEVENT
END:VCALENDAR
