BEGIN:VCALENDAR
VERSION:2.0
METHOD:PUBLISH
BEGIN:VEVENT
UID:WILD_APRICOT_EVENT_2467586_SESSION_1
DTSTART:20170520T230000Z
DTEND:20170521T060000Z
SUMMARY:Marysville to Thornton
LOCATION:Cathedral Range State Park
DESCRIPTION:https://www.rangeroverclub.org.au/event-2467586\n\nTrip Leader: Troy Cogan TL (0414884085) Ken Archibald TEC\n  Description: We'll be heading towards Neds Gully for morning tea and then up to trestle bridge for lunch. Then to Thornton for a coffee before we head home. \n\n  Approx. 1 1/2 hours back to the outer eastern suburbs via the black stuff.\n  Bring your thermos morning tea & lunch. \n  Trip Standard: Easy/Medium\n\n  Equipment:  Driver training handy but not essential. Basic recovery gear required. \n  Radio's essential for this trip. UHF: Channel 10\n  Fuel: Caltex Fuel available at Marysville \n  Convoy limit: 15 vehicles\n\n  'Meetup' arrangements for commencement of trip: We leave Marysville 9am sharp.  If you want a coffee before we start we get up there a bit earlier.\n\n  \n\n
DTSTAMP:20200228T212418Z
END:VEVENT
END:VCALENDAR
