BEGIN:VCALENDAR
VERSION:2.0
METHOD:PUBLISH
BEGIN:VEVENT
UID:WILD_APRICOT_EVENT_2416791_SESSION_1
DTSTART:20170209T081800Z
DTEND:20170209T091800Z
SUMMARY:Trip Planning Meeting for 2017
LOCATION:East Malvern RSL Up-stairs area
DESCRIPTION:https://www.rangeroverclub.org.au/event-2416791\n\nI am holding a trip planning meeting on Thur. 9th. Feb. 2017 at East Malvern RSL (upstairs)\n  If you are thinking about running trips in 2017 or have ideas for trips that you would like to see on the trip calendar please come along or let me know by emil Trips@rangeroverclub.org.au or call me on 0488018070\n  If you are attending the meeting please sign up below\n\n
DTSTAMP:20200228T212622Z
END:VEVENT
END:VCALENDAR
