BEGIN:VCALENDAR
VERSION:2.0
METHOD:PUBLISH
BEGIN:VEVENT
UID:WILD_APRICOT_EVENT_2356318_SESSION_1
DTSTART:20161021T213000Z
DTEND:20161022T030000Z
SUMMARY:Range Rover Driver Training Practical
LOCATION:East Malvern RSL Club\, Ladies Bowls Room
DESCRIPTION:https://www.rangeroverclub.org.au/event-2356318\n\nThis is the Driver Training practical session... Targeted at new members\, but also open to members who have recently changed vehicles or need a refresher. The RRCV's Driver Trainers are accredited with FWDV and on completion of both theory and practical sessions\, you will receive a proficiency certificate that is recognised by all FWDV affiliated clubs.\n   \n  If you signup for the theory on Wednesday 19th October  it includes the practical session -  you don't need to sign up for the practical as well.\n   \n  Details of the practical day will be provided at the Theory session.\n  \n\n
DTSTAMP:20200228T212836Z
END:VEVENT
END:VCALENDAR
